BEGIN:VCALENDAR
VERSION:2.0
PRODID:-//Editorial Forja - ECPv6.15.20//NONSGML v1.0//EN
CALSCALE:GREGORIAN
METHOD:PUBLISH
X-WR-CALNAME:Editorial Forja
X-ORIGINAL-URL:https://www.editorialforja.cl
X-WR-CALDESC:Eventos para Editorial Forja
REFRESH-INTERVAL;VALUE=DURATION:PT1H
X-Robots-Tag:noindex
X-PUBLISHED-TTL:PT1H
BEGIN:VTIMEZONE
TZID:America/Santiago
BEGIN:STANDARD
TZOFFSETFROM:-0300
TZOFFSETTO:-0400
TZNAME:-04
DTSTART:20230402T030000
END:STANDARD
BEGIN:DAYLIGHT
TZOFFSETFROM:-0400
TZOFFSETTO:-0300
TZNAME:-03
DTSTART:20230903T040000
END:DAYLIGHT
BEGIN:STANDARD
TZOFFSETFROM:-0300
TZOFFSETTO:-0400
TZNAME:-04
DTSTART:20240407T030000
END:STANDARD
BEGIN:DAYLIGHT
TZOFFSETFROM:-0400
TZOFFSETTO:-0300
TZNAME:-03
DTSTART:20240908T040000
END:DAYLIGHT
BEGIN:STANDARD
TZOFFSETFROM:-0300
TZOFFSETTO:-0400
TZNAME:-04
DTSTART:20250406T030000
END:STANDARD
BEGIN:DAYLIGHT
TZOFFSETFROM:-0400
TZOFFSETTO:-0300
TZNAME:-03
DTSTART:20250907T040000
END:DAYLIGHT
END:VTIMEZONE
BEGIN:VEVENT
DTSTART;TZID=America/Santiago:20241108T110000
DTEND;TZID=America/Santiago:20241117T203000
DTSTAMP:20260423T122521
CREATED:20241105T161150Z
LAST-MODIFIED:20241105T161200Z
UID:13697-1731063600-1731875400@www.editorialforja.cl
SUMMARY:Feria Internacional del Libro de Santiago - FILSA 2024
DESCRIPTION:
URL:https://www.editorialforja.cl/evento/feria-internacional-del-libro-de-santiafo-filsa-2024/
LOCATION:Centro Cultural Estación Mapocho\, Plaza de la Cultura sin número ex estación de trenes Metro Cal y Canto\, Santiago\, 8320000\, Chile
CATEGORIES:Feria
ATTACH;FMTTYPE=image/png:https://www.editorialforja.cl/wp-content/uploads/2024/11/Filsa_2024-26.png
ORGANIZER;CN="C%C3%A1mara Chilena del Libro":MAILTO:secretaria@camaradellibro.cl
END:VEVENT
BEGIN:VEVENT
DTSTART;TZID=America/Santiago:20241114T090000
DTEND;TZID=America/Santiago:20241115T160000
DTSTAMP:20260423T122521
CREATED:20241105T161827Z
LAST-MODIFIED:20241105T161827Z
UID:13700-1731574800-1731686400@www.editorialforja.cl
SUMMARY:Feria del libro Colegio Tabancura
DESCRIPTION:
URL:https://www.editorialforja.cl/evento/feria-del-libro-colegio-tabancura/
LOCATION:Colegio Tabancura\, Las Hualtatas 10650\, Vitacura\, Santiago\, Metropolitana\, Chile
CATEGORIES:Feria
ATTACH;FMTTYPE=image/png:https://www.editorialforja.cl/wp-content/uploads/2024/11/logo-03-tabancura.png
END:VEVENT
BEGIN:VEVENT
DTSTART;TZID=America/Santiago:20241116T100000
DTEND;TZID=America/Santiago:20241116T140000
DTSTAMP:20260423T122521
CREATED:20241105T151832Z
LAST-MODIFIED:20241105T151832Z
UID:13689-1731751200-1731765600@www.editorialforja.cl
SUMMARY:Feria del libro Lincoln College de Huechuraba
DESCRIPTION:
URL:https://www.editorialforja.cl/evento/feria-del-libro-lincoln-college-de-huechuraba/
LOCATION:Avenida Santa Marta 7051\, Avenida Santa Marta 7051\, Huechuraba\, Santiago\, Metropolitana\, 8600826\, Chile
CATEGORIES:Feria
ATTACH;FMTTYPE=image/jpeg:https://www.editorialforja.cl/wp-content/uploads/2024/11/Feria-Lincoln.jpeg
END:VEVENT
END:VCALENDAR