BEGIN:VCALENDAR
VERSION:2.0
PRODID:-//Editorial Forja - ECPv6.15.20//NONSGML v1.0//EN
CALSCALE:GREGORIAN
METHOD:PUBLISH
X-WR-CALNAME:Editorial Forja
X-ORIGINAL-URL:https://www.editorialforja.cl
X-WR-CALDESC:Eventos para Editorial Forja
REFRESH-INTERVAL;VALUE=DURATION:PT1H
X-Robots-Tag:noindex
X-PUBLISHED-TTL:PT1H
BEGIN:VTIMEZONE
TZID:America/Santiago
BEGIN:STANDARD
TZOFFSETFROM:-0300
TZOFFSETTO:-0400
TZNAME:-04
DTSTART:20240407T030000
END:STANDARD
BEGIN:DAYLIGHT
TZOFFSETFROM:-0400
TZOFFSETTO:-0300
TZNAME:-03
DTSTART:20240908T040000
END:DAYLIGHT
BEGIN:STANDARD
TZOFFSETFROM:-0300
TZOFFSETTO:-0400
TZNAME:-04
DTSTART:20250406T030000
END:STANDARD
BEGIN:DAYLIGHT
TZOFFSETFROM:-0400
TZOFFSETTO:-0300
TZNAME:-03
DTSTART:20250907T040000
END:DAYLIGHT
BEGIN:STANDARD
TZOFFSETFROM:-0300
TZOFFSETTO:-0400
TZNAME:-04
DTSTART:20260405T030000
END:STANDARD
BEGIN:DAYLIGHT
TZOFFSETFROM:-0400
TZOFFSETTO:-0300
TZNAME:-03
DTSTART:20260906T040000
END:DAYLIGHT
END:VTIMEZONE
BEGIN:VEVENT
DTSTART;TZID=America/Santiago:20250413T120000
DTEND;TZID=America/Santiago:20250413T200000
DTSTAMP:20260423T170019
CREATED:20250324T221538Z
LAST-MODIFIED:20250324T221538Z
UID:13931-1744545600-1744574400@www.editorialforja.cl
SUMMARY:FILPA - Feria Independiente del Libro de Puente Alto
DESCRIPTION:
URL:https://www.editorialforja.cl/evento/filpa-feria-independiente-del-libro-de-puente-alto/
LOCATION:Plaza Mariano Latorre\, On Panta 307\, Santiago\, Chile
CATEGORIES:Feria
ATTACH;FMTTYPE=image/png:https://www.editorialforja.cl/wp-content/uploads/2025/03/FILPA.png
END:VEVENT
END:VCALENDAR