BEGIN:VCALENDAR
VERSION:2.0
PRODID:-//Editorial Forja - ECPv6.15.20//NONSGML v1.0//EN
CALSCALE:GREGORIAN
METHOD:PUBLISH
X-WR-CALNAME:Editorial Forja
X-ORIGINAL-URL:https://www.editorialforja.cl
X-WR-CALDESC:Eventos para Editorial Forja
REFRESH-INTERVAL;VALUE=DURATION:PT1H
X-Robots-Tag:noindex
X-PUBLISHED-TTL:PT1H
BEGIN:VTIMEZONE
TZID:America/Santiago
BEGIN:STANDARD
TZOFFSETFROM:-0300
TZOFFSETTO:-0400
TZNAME:-04
DTSTART:20240407T030000
END:STANDARD
BEGIN:DAYLIGHT
TZOFFSETFROM:-0400
TZOFFSETTO:-0300
TZNAME:-03
DTSTART:20240908T040000
END:DAYLIGHT
BEGIN:STANDARD
TZOFFSETFROM:-0300
TZOFFSETTO:-0400
TZNAME:-04
DTSTART:20250406T030000
END:STANDARD
BEGIN:DAYLIGHT
TZOFFSETFROM:-0400
TZOFFSETTO:-0300
TZNAME:-03
DTSTART:20250907T040000
END:DAYLIGHT
BEGIN:STANDARD
TZOFFSETFROM:-0300
TZOFFSETTO:-0400
TZNAME:-04
DTSTART:20260405T030000
END:STANDARD
BEGIN:DAYLIGHT
TZOFFSETFROM:-0400
TZOFFSETTO:-0300
TZNAME:-03
DTSTART:20260906T040000
END:DAYLIGHT
END:VTIMEZONE
BEGIN:VEVENT
DTSTART;TZID=America/Santiago:20250426T100000
DTEND;TZID=America/Santiago:20250427T190000
DTSTAMP:20260423T170012
CREATED:20250415T221457Z
LAST-MODIFIED:20250415T221457Z
UID:14006-1745661600-1745780400@www.editorialforja.cl
SUMMARY:IV Fiesta Cultural del Libro de Huechuraba
DESCRIPTION:
URL:https://www.editorialforja.cl/evento/iv-fiesta-cultural-del-libro-de-huechuraba/
LOCATION:Plaza Cïvica de Huechuraba\, Premio Nobel 560\, Santiago\, Chile
CATEGORIES:Feria
ATTACH;FMTTYPE=image/jpeg:https://www.editorialforja.cl/wp-content/uploads/2025/04/Huechuraba.jpg
END:VEVENT
END:VCALENDAR