BEGIN:VCALENDAR
VERSION:2.0
PRODID:-//Editorial Forja - ECPv6.15.20//NONSGML v1.0//EN
CALSCALE:GREGORIAN
METHOD:PUBLISH
X-WR-CALNAME:Editorial Forja
X-ORIGINAL-URL:https://www.editorialforja.cl
X-WR-CALDESC:Eventos para Editorial Forja
REFRESH-INTERVAL;VALUE=DURATION:PT1H
X-Robots-Tag:noindex
X-PUBLISHED-TTL:PT1H
BEGIN:VTIMEZONE
TZID:America/Santiago
BEGIN:STANDARD
TZOFFSETFROM:-0300
TZOFFSETTO:-0400
TZNAME:-04
DTSTART:20240407T030000
END:STANDARD
BEGIN:DAYLIGHT
TZOFFSETFROM:-0400
TZOFFSETTO:-0300
TZNAME:-03
DTSTART:20240908T040000
END:DAYLIGHT
BEGIN:STANDARD
TZOFFSETFROM:-0300
TZOFFSETTO:-0400
TZNAME:-04
DTSTART:20250406T030000
END:STANDARD
BEGIN:DAYLIGHT
TZOFFSETFROM:-0400
TZOFFSETTO:-0300
TZNAME:-03
DTSTART:20250907T040000
END:DAYLIGHT
BEGIN:STANDARD
TZOFFSETFROM:-0300
TZOFFSETTO:-0400
TZNAME:-04
DTSTART:20260405T030000
END:STANDARD
BEGIN:DAYLIGHT
TZOFFSETFROM:-0400
TZOFFSETTO:-0300
TZNAME:-03
DTSTART:20260906T040000
END:DAYLIGHT
END:VTIMEZONE
BEGIN:VEVENT
DTSTART;TZID=America/Santiago:20250701T100000
DTEND;TZID=America/Santiago:20250706T213000
DTSTAMP:20260423T195602
CREATED:20250619T214809Z
LAST-MODIFIED:20250619T214809Z
UID:14138-1751364000-1751837400@www.editorialforja.cl
SUMMARY:Feria del Libro Infantil y Juvenil de Ñuñoa
DESCRIPTION:
URL:https://www.editorialforja.cl/evento/feria-del-libro-infantil-y-juvenil-de-nunoa/
LOCATION:Plaza Ñuñoa\, Manuel de Salas 71\, Santiago\, Chile
CATEGORIES:Feria
ATTACH;FMTTYPE=image/jpeg:https://www.editorialforja.cl/wp-content/uploads/2025/06/Nunoa.jpg
END:VEVENT
END:VCALENDAR