BEGIN:VCALENDAR
VERSION:2.0
PRODID:-//Editorial Forja - ECPv6.15.20//NONSGML v1.0//EN
CALSCALE:GREGORIAN
METHOD:PUBLISH
X-WR-CALNAME:Editorial Forja
X-ORIGINAL-URL:https://www.editorialforja.cl
X-WR-CALDESC:Eventos para Editorial Forja
REFRESH-INTERVAL;VALUE=DURATION:PT1H
X-Robots-Tag:noindex
X-PUBLISHED-TTL:PT1H
BEGIN:VTIMEZONE
TZID:America/Santiago
BEGIN:STANDARD
TZOFFSETFROM:-0300
TZOFFSETTO:-0400
TZNAME:-04
DTSTART:20240407T030000
END:STANDARD
BEGIN:DAYLIGHT
TZOFFSETFROM:-0400
TZOFFSETTO:-0300
TZNAME:-03
DTSTART:20240908T040000
END:DAYLIGHT
BEGIN:STANDARD
TZOFFSETFROM:-0300
TZOFFSETTO:-0400
TZNAME:-04
DTSTART:20250406T030000
END:STANDARD
BEGIN:DAYLIGHT
TZOFFSETFROM:-0400
TZOFFSETTO:-0300
TZNAME:-03
DTSTART:20250907T040000
END:DAYLIGHT
BEGIN:STANDARD
TZOFFSETFROM:-0300
TZOFFSETTO:-0400
TZNAME:-04
DTSTART:20260405T030000
END:STANDARD
BEGIN:DAYLIGHT
TZOFFSETFROM:-0400
TZOFFSETTO:-0300
TZNAME:-03
DTSTART:20260906T040000
END:DAYLIGHT
END:VTIMEZONE
BEGIN:VEVENT
DTSTART;TZID=America/Santiago:20251107T100000
DTEND;TZID=America/Santiago:20251108T190000
DTSTAMP:20260424T032946
CREATED:20251104T183459Z
LAST-MODIFIED:20251104T185147Z
UID:14496-1762509600-1762628400@www.editorialforja.cl
SUMMARY:Feria del Libro de Maipú
DESCRIPTION:
URL:https://www.editorialforja.cl/evento/feria-del-libro-de-maipu/
LOCATION:Plaza de Maipú
CATEGORIES:Feria
ATTACH;FMTTYPE=image/png:https://www.editorialforja.cl/wp-content/uploads/2025/11/Maipu.png
ORGANIZER;CN="C%C3%A1mara Chilena del Libro":MAILTO:secretaria@camaradellibro.cl
END:VEVENT
END:VCALENDAR